BEGIN:VCALENDAR
VERSION:2.0
PRODID:-//Zanger-Dennis - ECPv6.5.0.1//NONSGML v1.0//EN
CALSCALE:GREGORIAN
METHOD:PUBLISH
X-ORIGINAL-URL:https://zanger-dennis.nl
X-WR-CALDESC:Evenementen voor Zanger-Dennis
REFRESH-INTERVAL;VALUE=DURATION:PT1H
X-Robots-Tag:noindex
X-PUBLISHED-TTL:PT1H
BEGIN:VTIMEZONE
TZID:UTC
BEGIN:STANDARD
TZOFFSETFROM:+0000
TZOFFSETTO:+0000
TZNAME:UTC
DTSTART:20240101T000000
END:STANDARD
END:VTIMEZONE
BEGIN:VEVENT
DTSTART;VALUE=DATE:20240831
DTEND;VALUE=DATE:20240901
DTSTAMP:20260424T141821
CREATED:20240609T173651Z
LAST-MODIFIED:20240609T173651Z
UID:210-1725062400-1725148799@zanger-dennis.nl
SUMMARY:Feest Ewijk (Besloten)
DESCRIPTION:
URL:https://zanger-dennis.nl/event/feest-ewijk-besloten/
LOCATION:Ewijk\, Ewijk\, Nederland
END:VEVENT
BEGIN:VEVENT
DTSTART;VALUE=DATE:20240917
DTEND;VALUE=DATE:20240918
DTSTAMP:20260424T141821
CREATED:20240706T211455Z
LAST-MODIFIED:20240706T211455Z
UID:591-1726531200-1726617599@zanger-dennis.nl
SUMMARY:Café Nol
DESCRIPTION:
URL:https://zanger-dennis.nl/event/cafe-nol/
END:VEVENT
END:VCALENDAR